BEGIN:VCALENDAR
VERSION:2.0
PRODID:-//M-TEC Systems Akademie - ECPv6.15.18//NONSGML v1.0//EN
CALSCALE:GREGORIAN
METHOD:PUBLISH
X-ORIGINAL-URL:https://www.mtec-akademie.com
X-WR-CALDESC:Veranstaltungen für M-TEC Systems Akademie
REFRESH-INTERVAL;VALUE=DURATION:PT1H
X-Robots-Tag:noindex
X-PUBLISHED-TTL:PT1H
BEGIN:VTIMEZONE
TZID:Europe/Berlin
BEGIN:DAYLIGHT
TZOFFSETFROM:+0100
TZOFFSETTO:+0200
TZNAME:CEST
DTSTART:20240331T010000
END:DAYLIGHT
BEGIN:STANDARD
TZOFFSETFROM:+0200
TZOFFSETTO:+0100
TZNAME:CET
DTSTART:20241027T010000
END:STANDARD
BEGIN:DAYLIGHT
TZOFFSETFROM:+0100
TZOFFSETTO:+0200
TZNAME:CEST
DTSTART:20250330T010000
END:DAYLIGHT
BEGIN:STANDARD
TZOFFSETFROM:+0200
TZOFFSETTO:+0100
TZNAME:CET
DTSTART:20251026T010000
END:STANDARD
BEGIN:DAYLIGHT
TZOFFSETFROM:+0100
TZOFFSETTO:+0200
TZNAME:CEST
DTSTART:20260329T010000
END:DAYLIGHT
BEGIN:STANDARD
TZOFFSETFROM:+0200
TZOFFSETTO:+0100
TZNAME:CET
DTSTART:20261025T010000
END:STANDARD
END:VTIMEZONE
BEGIN:VEVENT
DTSTART;TZID=Europe/Berlin:20250303T090000
DTEND;TZID=Europe/Berlin:20250303T094500
DTSTAMP:20260421T211321
CREATED:20250108T091816Z
LAST-MODIFIED:20250116T092457Z
UID:10000043-1740992400-1740995100@www.mtec-akademie.com
SUMMARY:Spotlight: How to use the Shop
DESCRIPTION:Einfach\, schnell und komfortabel\nErfahren Sie\, wie der M-TEC Webshop Ihr unverzichtbares Werkzeug für den Alltag wird! \nFinden Sie schnell und unkompliziert die passenden Produkte sowie die dazugehörigen Dokumente und Anleitungen für Ihre Gesamtenergielösung. Ob Produktauswahl\, Bestellvorgang oder eine übersichtliche Verwaltung Ihrer Bestellungen – unser Webshop bietet Ihnen alles\, was Sie für einen reibungslosen und komfortablen Einkauf benötigen. \nJetzt anmelden und die Chancen der Zukunft nutzen!
URL:https://www.mtec-akademie.com/event/spotlight-how-to-use-the-shop-01-25/
LOCATION:Online\, https://zoom.us/j/96460018700?pwd=oLBfUcQSOM83ae52igNxW26tdwXNIK.1 
CATEGORIES:Online Zoom,Spotlight
ATTACH;FMTTYPE=image/jpeg:https://www.mtec-akademie.com/wp-content/uploads/PXL_20250108_132036475-scaled.jpg
ORGANIZER;CN="M-TEC Energy Systems":MAILTO:sales@mtec-systems.com
END:VEVENT
BEGIN:VEVENT
DTSTART;TZID=Europe/Berlin:20250307T110000
DTEND;TZID=Europe/Berlin:20250307T114500
DTSTAMP:20260421T211321
CREATED:20250108T063351Z
LAST-MODIFIED:20250116T091715Z
UID:10000024-1741345200-1741347900@www.mtec-akademie.com
SUMMARY:Spotlight: Energy-Hero®
DESCRIPTION:Kompakt\, praxisnah und inspirierend\nLernen Sie den Energy-Hero® kennen – die revolutionäre 2-in-1-Lösung\, die Energiezähler und Energiemanagement-Software in einem Gerät vereint. Mit einfacher Installation und nahtloser Integration maximieren Sie die Energie-Eigenverbrauchsquote und erschließen neue Marktpotenziale. \nDas erwartet Sie:\n\nInhalt: Detaillierte Einblicke in Funktionen und Vorteile des Energy-Hero®\, inklusive technischer Highlights und praxisnaher Anwendungsbeispiele.\nDauer: 30 Minuten kompakte Informationen plus interaktiver Fragerunde.\nFormat: Online via Zoom – bequem und flexibel von Ihrem Arbeitsplatz aus.\n\nFür wen ist die Session geeignet?\nNeue und bestehende Partner\, die eine effiziente und zukunftssichere Energiemanagementlösung suchen – ideal für Geschäftsführer\, Techniker sowie Fachkräfte aus Vertrieb und Marketing. \nIhre Vorteile:\n\nTechnischer Überblick: Verstehen Sie\, wie der Energy-Hero® funktioniert und in bestehende Systeme integriert wird.\nPraxisbeispiele: Entdecken Sie konkrete Einsatzmöglichkeiten.\nMarktperspektiven: Nutzen Sie die Vorteile dieser innovativen Lösung für Ihr Geschäft.\n\nNach nur 30 Minuten wissen Sie genau\, wie der Energy-Hero® Ihr Angebot erweitert und Ihre Effizienz steigert. \nJetzt anmelden und die Chancen der Zukunft nutzen!
URL:https://www.mtec-akademie.com/event/spotlight-energy-hero-2-25/
LOCATION:Online\, https://zoom.us/j/96460018700?pwd=oLBfUcQSOM83ae52igNxW26tdwXNIK.1 
CATEGORIES:Online Zoom,Spotlight
ATTACH;FMTTYPE=image/jpeg:https://www.mtec-akademie.com/wp-content/uploads/hero-spotlight.jpg
ORGANIZER;CN="M-TEC Energy Systems":MAILTO:sales@mtec-systems.com
END:VEVENT
BEGIN:VEVENT
DTSTART;TZID=Europe/Berlin:20250310T090000
DTEND;TZID=Europe/Berlin:20250310T094500
DTSTAMP:20260421T211321
CREATED:20250108T071250Z
LAST-MODIFIED:20250116T091709Z
UID:10000026-1741597200-1741599900@www.mtec-akademie.com
SUMMARY:Spotlight: Energy-Wizard
DESCRIPTION:Effizient\, vielseitig und leistungsstark\nErfahren Sie mehr über den Energy-Wizard – den innovativen PV-Wechselrichter\, der sich nahtlos in Ihre bestehende Energielösung einfügt. Mit seiner hohen Effizienz\, flexiblen Leistungsbereichen und einfacher Plug-&-Play-Installation ist der Energy-Wizard die perfekte Wahl für effiziente Energie-Lösungen. \nDas erwartet Sie:\n\nInhalt: Einblicke in Funktionen und Vorteile\, inklusive technischer Highlights und praxisnaher Anwendungsbeispiele.\nDauer: 30 Minuten kompakte Informationen plus Fragerunde.\nFormat: Online via Zoom – bequem und flexibel von Ihrem Arbeitsplatz aus.\n\nFür wen ist die Session geeignet?\nNeue und bestehende Partner\, die eine effiziente und zukunftssichere Energiemanagementlösung suchen – ideal für Geschäftsführer\, Techniker sowie Fachkräfte aus Vertrieb und Marketing. \nIhre Vorteile:\n\nTechnischer Überblick: Verstehen Sie\, wie der Energy-Wizard funktioniert und in bestehende Systeme integriert wird.\nPraxisbeispiele: Entdecken Sie konkrete Einsatzmöglichkeiten.\nMarktperspektiven: Nutzen Sie die Vorteile dieser innovativen Lösung für Ihr Geschäft.\n\nNach nur 30 Minuten wissen Sie genau\, wie der Energy-Wizard Ihr Angebot erweitert und Ihre Effizienz steigert. \nJetzt anmelden und die Chancen der Zukunft nutzen!
URL:https://www.mtec-akademie.com/event/spotlight-energy-wizard-02-25/
LOCATION:Online\, https://zoom.us/j/96460018700?pwd=oLBfUcQSOM83ae52igNxW26tdwXNIK.1 
CATEGORIES:Online Zoom,Spotlight
ATTACH;FMTTYPE=image/jpeg:https://www.mtec-akademie.com/wp-content/uploads/FST0843-2-scaled.jpg
ORGANIZER;CN="M-TEC Energy Systems":MAILTO:sales@mtec-systems.com
END:VEVENT
BEGIN:VEVENT
DTSTART;TZID=Europe/Berlin:20250314T110000
DTEND;TZID=Europe/Berlin:20250314T114500
DTSTAMP:20260421T211321
CREATED:20250108T074404Z
LAST-MODIFIED:20250312T115858Z
UID:10000028-1741950000-1741952700@www.mtec-akademie.com
SUMMARY:Spotlight: Energy-Butler
DESCRIPTION:Flexibel\, sicher und nachhaltig\nLernen Sie den Energy-Butler kennen – die modulare All-in-One-Speicherlösung mit höchster Zuverlässigkeit und voller Notstromfähigkeit. Mit flexiblen Ausbaumöglichkeiten und intelligenter Vernetzung bietet der Energy-Butler eine zukunftssichere Lösung von 7\,7 kWh bis 30\,7 kWh. \nDas erwartet Sie:\n\nInhalt: Einblicke in Funktionen und Vorteile\, inklusive technischer Highlights und praxisnaher Anwendungsbeispiele. \nDauer: 30 Minuten kompakte Informationen plus Fragerunde.\nFormat: Online via Zoom – bequem und flexibel von Ihrem Arbeitsplatz aus.\n\nFür wen ist die Session geeignet?\nNeue und bestehende Partner\, die eine effiziente und zukunftssichere Energiemanagementlösung suchen – ideal für Geschäftsführer\, Techniker sowie Fachkräfte aus Vertrieb und Marketing. \nIhre Vorteile:\n\nTechnischer Überblick: Verstehen Sie\, wie der Energy-Butler funktioniert und in bestehende Systeme integriert wird.\nPraxisbeispiele: Entdecken Sie konkrete Einsatzmöglichkeiten.\nMarktperspektiven: Nutzen Sie die Vorteile dieser innovativen Lösung für Ihr Geschäft.\n\nNach nur 30 Minuten wissen Sie genau\, wie der Energy-Butler Ihr Angebot erweitert und Ihre Effizienz steigert. \nJetzt anmelden und die Chancen der Zukunft nutzen!
URL:https://www.mtec-akademie.com/event/spotlight-energy-butler-02-25/
LOCATION:Online\, https://zoom.us/j/96460018700?pwd=oLBfUcQSOM83ae52igNxW26tdwXNIK.1 
CATEGORIES:Online Zoom,Spotlight
ATTACH;FMTTYPE=image/jpeg:https://www.mtec-akademie.com/wp-content/uploads/FST8843-scaled.jpg
ORGANIZER;CN="M-TEC Energy Systems":MAILTO:sales@mtec-systems.com
END:VEVENT
BEGIN:VEVENT
DTSTART;TZID=Europe/Berlin:20250321T110000
DTEND;TZID=Europe/Berlin:20250321T114500
DTSTAMP:20260421T211321
CREATED:20250108T080017Z
LAST-MODIFIED:20250317T095452Z
UID:10000032-1742554800-1742557500@www.mtec-akademie.com
SUMMARY:Spotlight: Energy-Heater
DESCRIPTION:Effizient\, kompakt und benutzerfreundlich\nEntdecken Sie den Energy-Heater – die clevere Lösung zur Nutzung von überschüssigem PV-Strom für Warmwasser und Heizung. Mit einfacher Installation und stufenloser Leistungsregelung maximiert der Energy-Heater Ihren Eigenverbrauch und schont die Umwelt.\n \nDas erwartet Sie:\n\nInhalt: Einblicke in Funktionen und Vorteile\, inklusive technischer Highlights und praxisnaher Anwendungsbeispiele. \nDauer: 30 Minuten kompakte Informationen plus Fragerunde.\nFormat: Online via Zoom – bequem und flexibel von Ihrem Arbeitsplatz aus.\n\nFür wen ist die Session geeignet?\nNeue und bestehende Partner\, die eine effiziente und zukunftssichere Energiemanagementlösung suchen – ideal für Geschäftsführer\, Techniker sowie Fachkräfte aus Vertrieb und Marketing. \nIhre Vorteile:\n\nTechnischer Überblick: Verstehen Sie\, wie der Energy-Heater funktioniert und in bestehende Systeme integriert wird.\nPraxisbeispiele: Entdecken Sie konkrete Einsatzmöglichkeiten.\nMarktperspektiven: Nutzen Sie die Vorteile dieser innovativen Lösung für Ihr Geschäft.\n\nNach nur 30 Minuten wissen Sie genau\, wie der Energy-Heater Ihr Angebot erweitert und Ihre Effizienz steigert. \nJetzt anmelden und die Chancen der Zukunft nutzen!
URL:https://www.mtec-akademie.com/event/spotlight-energy-heater-02-25/
LOCATION:Online\, https://zoom.us/j/96460018700?pwd=oLBfUcQSOM83ae52igNxW26tdwXNIK.1 
CATEGORIES:Online Zoom,Spotlight
ATTACH;FMTTYPE=image/jpeg:https://www.mtec-akademie.com/wp-content/uploads/FST7947-scaled.jpg
ORGANIZER;CN="M-TEC Energy Systems":MAILTO:sales@mtec-systems.com
END:VEVENT
BEGIN:VEVENT
DTSTART;TZID=Europe/Berlin:20250324T090000
DTEND;TZID=Europe/Berlin:20250324T094500
DTSTAMP:20260421T211321
CREATED:20250108T081007Z
LAST-MODIFIED:20250320T070006Z
UID:10000034-1742806800-1742809500@www.mtec-akademie.com
SUMMARY:Spotlight: Energy-Charger
DESCRIPTION:Robust\, innovativ und nachhaltig\nErfahren Sie mehr über den Energy-Charger – die Ladelösung für 11kW oder 22kW. Mit einfacher Installation\, digitaler Steuerung und Phasenumschaltung sorgt der Energy-Charger für Komfort und Sicherheit beim Laden. Entwickelt\, designed und hergestellt in Österreich. \n \nDas erwartet Sie:\n\nInhalt: Einblicke in Funktionen und Vorteile\, inklusive technischer Highlights und praxisnaher Anwendungsbeispiele. \nDauer: 30 Minuten kompakte Informationen plus Fragerunde.\nFormat: Online via Zoom – bequem und flexibel von Ihrem Arbeitsplatz aus.\n\nFür wen ist die Session geeignet?\nNeue und bestehende Partner\, die eine effiziente und zukunftssichere Energiemanagementlösung suchen – ideal für Geschäftsführer\, Techniker sowie Fachkräfte aus Vertrieb und Marketing. \nIhre Vorteile:\n\nTechnischer Überblick: Verstehen Sie\, wie der Energy-Charger funktioniert und in bestehende Systeme integriert wird.\nPraxisbeispiele: Entdecken Sie konkrete Einsatzmöglichkeiten.\nMarktperspektiven: Nutzen Sie die Vorteile dieser innovativen Lösung für Ihr Geschäft.\n\nNach nur 30 Minuten wissen Sie genau\, wie der Energy-Charger Ihr Angebot erweitert und Ihre Effizienz steigert. \nJetzt anmelden und die Chancen der Zukunft nutzen!
URL:https://www.mtec-akademie.com/event/spotlight-energy-charger-02-25/
LOCATION:Online\, https://zoom.us/j/96460018700?pwd=oLBfUcQSOM83ae52igNxW26tdwXNIK.1 
CATEGORIES:Online Zoom,Spotlight
ATTACH;FMTTYPE=image/jpeg:https://www.mtec-akademie.com/wp-content/uploads/FST7941-scaled.jpg
ORGANIZER;CN="M-TEC Energy Systems":MAILTO:sales@mtec-systems.com
END:VEVENT
BEGIN:VEVENT
DTSTART;TZID=Europe/Berlin:20250328T100000
DTEND;TZID=Europe/Berlin:20250328T104500
DTSTAMP:20260421T211321
CREATED:20250318T082706Z
LAST-MODIFIED:20250318T082706Z
UID:10000084-1743156000-1743158700@www.mtec-akademie.com
SUMMARY:NEWS Wärmepumpen
DESCRIPTION:Aktuelle Neuerungen im Bereich Wärmepumpen\nAb April 2025 stehen wichtige und innovative Veränderungen im Bereich Wärmepumpen an. Um Sie bestmöglich darauf vorzubereiten\, laden wir Sie herzlich zu unserem Webinar ein.\nErfahren Sie aus erster Hand\, welche Neuerungen auf Sie zukommen! \nDas erwartet Sie:\n\nInhalt: Vorstellung der Neuerungen\, darunter Planungshandbuch 2025\, Schemenhandbücher 2025\, verpflichtendes Zubehör\, Software-Update 2.10 und Webshop-Anpassungen.\nDauer: 30 Minuten kompakte Infos\nFormat: Online-Webinar – flexibel und bequem von Ihrem Arbeitsplatz aus.\n\nFür wen ist die Session geeignet?\nNeue und bestehende Partner\, die sich frühzeitig auf die kommenden Änderungen einstellen möchten! \nIhre Vorteile:\n\nKlare Übersicht der wichtigsten Änderungen für 2025.\nPraxisnaher Einblick in neue Zubehörlösungen.\nFrühzeitige Vorbereitung auf die neuen Standards.\n\nNach nur 30 Minuten sind Sie bestens informiert und bereit für die kommenden Entwicklungen! \nJetzt anmelden und auf dem Laufenden bleiben!
URL:https://www.mtec-akademie.com/event/news-waermepumpen/
LOCATION:Online\, https://zoom.us/j/96460018700?pwd=oLBfUcQSOM83ae52igNxW26tdwXNIK.1 
CATEGORIES:Online Zoom
ATTACH;FMTTYPE=image/jpeg:https://www.mtec-akademie.com/wp-content/uploads/FST5164-scaled.jpg
ORGANIZER;CN="M-TEC Energy Systems":MAILTO:sales@mtec-systems.com
END:VEVENT
END:VCALENDAR