BEGIN:VCALENDAR
VERSION:2.0
PRODID:-//M-TEC Systems Akademie - ECPv6.15.18//NONSGML v1.0//EN
CALSCALE:GREGORIAN
METHOD:PUBLISH
X-ORIGINAL-URL:https://www.mtec-akademie.com
X-WR-CALDESC:Veranstaltungen für M-TEC Systems Akademie
REFRESH-INTERVAL;VALUE=DURATION:PT1H
X-Robots-Tag:noindex
X-PUBLISHED-TTL:PT1H
BEGIN:VTIMEZONE
TZID:Europe/Berlin
BEGIN:DAYLIGHT
TZOFFSETFROM:+0100
TZOFFSETTO:+0200
TZNAME:CEST
DTSTART:20240331T010000
END:DAYLIGHT
BEGIN:STANDARD
TZOFFSETFROM:+0200
TZOFFSETTO:+0100
TZNAME:CET
DTSTART:20241027T010000
END:STANDARD
BEGIN:DAYLIGHT
TZOFFSETFROM:+0100
TZOFFSETTO:+0200
TZNAME:CEST
DTSTART:20250330T010000
END:DAYLIGHT
BEGIN:STANDARD
TZOFFSETFROM:+0200
TZOFFSETTO:+0100
TZNAME:CET
DTSTART:20251026T010000
END:STANDARD
BEGIN:DAYLIGHT
TZOFFSETFROM:+0100
TZOFFSETTO:+0200
TZNAME:CEST
DTSTART:20260329T010000
END:DAYLIGHT
BEGIN:STANDARD
TZOFFSETFROM:+0200
TZOFFSETTO:+0100
TZNAME:CET
DTSTART:20261025T010000
END:STANDARD
END:VTIMEZONE
BEGIN:VEVENT
DTSTART;TZID=Europe/Berlin:20250911T150000
DTEND;TZID=Europe/Berlin:20250911T154500
DTSTAMP:20260421T111928
CREATED:20250827T131736Z
LAST-MODIFIED:20250827T135455Z
UID:10000149-1757602800-1757605500@www.mtec-akademie.com
SUMMARY:Spotlight: Wirtschaftliche Erträge von Stromspeichern
DESCRIPTION:Wirtschaftliche Erträge von Stromspeichern\n  \nPotenziale erkennen und Amortisation realistisch einschätzen\nStromspeicher können mehr als Eigenverbrauch optimieren: Im Energiehandel werden sie zur zusätzlichen Ertragsquelle.\nDoch ab welcher Größe lohnt sich der Einstieg und wie lange dauert die Amortisation unter realen Marktbedingungen? Vielen Betrieben fehlen noch klare Zahlen und belastbare Erfahrungswerte. \n\nWarum Sie das M-TEC Spotlight weiterbringt\nIn 45 Minuten erfahren Sie\, wie sich Erträge kalkulieren lassen\, welche Amortisationszeiträume realistisch sind und welche Faktoren die Wirtschaftlichkeit bestimmen.\nPraxisbeispiele zeigen\, wie M-TEC Speicherlösungen vom Energy-Tower bis zu containerbasierten Großspeichern optimal eingesetzt werden. \n\nThemen des Spotlights\n\nErtragsmöglichkeiten im Energiehandel\nRealistische Werte pro MWh\nTechnische und wirtschaftliche Einstiegsschwellen\nPraxisbeispiele und Amortisationsrechnungen\nOptimierung durch M-TEC E-Smart Energiemanagement\n\n\nWer Sie begleitet\nDr. Thomas Krausse\, CFO und Mitglied des Vorstands bei M-TEC\, verfügt über langjährige Erfahrung in der Umsetzung erneuerbarer Energielösungen für Großprojekte in Industrie\, Gewerbe und Kommunen. \n  \nSichern Sie sich Ihren Platz und erhalten Sie fundierte Einblicke\, wie Stromspeicher Wirtschaftlichkeit und Unabhängigkeit steigern können.
URL:https://www.mtec-akademie.com/event/spotlight-wirtschaftliche-ertraege-von-stromspeichern/
LOCATION:Online\, https://zoom.us/j/96460018700?pwd=oLBfUcQSOM83ae52igNxW26tdwXNIK.1 
CATEGORIES:Online Zoom,Spotlight
ATTACH;FMTTYPE=image/png:https://www.mtec-akademie.com/wp-content/uploads/MORPHEN-2-1.png
ORGANIZER;CN="M-TEC Energy Systems":MAILTO:sales@mtec-systems.com
END:VEVENT
BEGIN:VEVENT
DTSTART;TZID=Europe/Berlin:20250918T150000
DTEND;TZID=Europe/Berlin:20250918T154500
DTSTAMP:20260421T111929
CREATED:20250827T133011Z
LAST-MODIFIED:20250827T140438Z
UID:10000150-1758207600-1758210300@www.mtec-akademie.com
SUMMARY:Spotlight: Stromspeicher im Außenbereich
DESCRIPTION:Stromspeicher im Außenbereich\nWitterungsschutz\, Sicherheit und optimale Integration\nFür viele Projekte müssen Stromspeicher im Außenbereich installiert werden. Dabei stellen Witterungseinflüsse wie Nässe\, Kälte und Hitze besondere Anforderungen an Technik und Gehäuse. Auch der Brandschutz spielt eine entscheidende Rolle – je nach Einsatzgebiet und Umgebung. \n\nWarum Sie das M-TEC Spotlight weiterbringt\nIn 45 Minuten erhalten Sie praxisnahe Einblicke\, worauf bei der Installation von Stromspeichern im Außenbereich zu achten ist. \nWir vergleichen All-in-One-Outdoor-Lösungen mit Standard-Containern und zeigen\, wie M-TEC Systeme wie der Energy-Rock oder Containerlösungen zuverlässig und sicher arbeiten – auch unter anspruchsvollen Bedingungen. \n  \nThemen des Spotlights\n\nAnforderungen an Witterungsschutz und Temperaturbeständigkeit\nBrandschutz im Außenbereich\nVor- und Nachteile von All-in-One-Outdoor- vs. Containerlösungen\nPraxisbeispiele aus Gewerbe und Industrie\nIntegration in bestehende Energiesysteme mit M-TEC E-Smart\n\n  \nWer Sie begleitet\nDr. Thomas Krausse\, CFO und Mitglied des Vorstands bei M-TEC\, verfügt über langjährige Erfahrung in der Umsetzung erneuerbarer Energielösungen für Großprojekte – auch unter anspruchsvollen Rahmenbedingungen. \n  \nSichern Sie sich Ihren Platz und erhalten Sie fundierte Einblicke\, wie Stromspeicher im Außenbereich zuverlässig\, sicher und effizient betrieben werden können. \n  \n 
URL:https://www.mtec-akademie.com/event/spotlight-stromspeicher-im-aussenbereich/
LOCATION:Online\, https://zoom.us/j/96460018700?pwd=oLBfUcQSOM83ae52igNxW26tdwXNIK.1 
CATEGORIES:Online Zoom,Spotlight
ATTACH;FMTTYPE=image/jpeg:https://www.mtec-akademie.com/wp-content/uploads/Energy-Rock_Header.jpg
ORGANIZER;CN="M-TEC Energy Systems":MAILTO:sales@mtec-systems.com
END:VEVENT
END:VCALENDAR