BEGIN:VCALENDAR
VERSION:2.0
PRODID:-//M-TEC Systems Akademie - ECPv6.15.18//NONSGML v1.0//EN
CALSCALE:GREGORIAN
METHOD:PUBLISH
X-WR-CALNAME:M-TEC Systems Akademie
X-ORIGINAL-URL:https://www.mtec-akademie.com
X-WR-CALDESC:Veranstaltungen für M-TEC Systems Akademie
REFRESH-INTERVAL;VALUE=DURATION:PT1H
X-Robots-Tag:noindex
X-PUBLISHED-TTL:PT1H
BEGIN:VTIMEZONE
TZID:Europe/Berlin
BEGIN:DAYLIGHT
TZOFFSETFROM:+0100
TZOFFSETTO:+0200
TZNAME:CEST
DTSTART:20240331T010000
END:DAYLIGHT
BEGIN:STANDARD
TZOFFSETFROM:+0200
TZOFFSETTO:+0100
TZNAME:CET
DTSTART:20241027T010000
END:STANDARD
BEGIN:DAYLIGHT
TZOFFSETFROM:+0100
TZOFFSETTO:+0200
TZNAME:CEST
DTSTART:20250330T010000
END:DAYLIGHT
BEGIN:STANDARD
TZOFFSETFROM:+0200
TZOFFSETTO:+0100
TZNAME:CET
DTSTART:20251026T010000
END:STANDARD
BEGIN:DAYLIGHT
TZOFFSETFROM:+0100
TZOFFSETTO:+0200
TZNAME:CEST
DTSTART:20260329T010000
END:DAYLIGHT
BEGIN:STANDARD
TZOFFSETFROM:+0200
TZOFFSETTO:+0100
TZNAME:CET
DTSTART:20261025T010000
END:STANDARD
END:VTIMEZONE
BEGIN:VEVENT
DTSTART;TZID=Europe/Berlin:20251009T150000
DTEND;TZID=Europe/Berlin:20251009T154500
DTSTAMP:20260421T093947
CREATED:20250827T135047Z
LAST-MODIFIED:20250928T125331Z
UID:10000151-1760022000-1760024700@www.mtec-akademie.com
SUMMARY:Spotlight: Stromspeicher in der Landwirtschaft
DESCRIPTION:Stromspeicher in der Landwirtschaft\n  \nEinfache Einbindung\, sichere Notstromversorgung\, maximale Unabhängigkeit\nViele landwirtschaftliche Betriebe verfügen über PV-Anlagen\, nutzen den erzeugten Strom jedoch nicht vollständig selbst. Stromspeicher erhöhen den Eigenverbrauch\, sichern den Betrieb bei Netzausfall und ermöglichen die Integration bestehender Technik.\nBesonders wichtig ist dabei eine zuverlässige Notstromversorgung. Auch in Kombination mit Dieselgeneratoren. \n\nWarum Sie das M-TEC Spotlight weiterbringt\nIn 45 Minuten erfahren Sie\, wie sich Stromspeicher einfach in bestehende PV-Anlagen integrieren lassen\, wie eine dreifach abgesicherte Notstromversorgung umgesetzt wird und wie Dieselgeneratoren sicher eingebunden werden.\nWir zeigen praxisnah\, wie der M-TEC Energy-Tower landwirtschaftliche Betriebe mit Energie aus eigener Erzeugung zuverlässig versorgt. \n\nThemen des Spotlights\n\nEinbindung in bestehende PV-Anlagen\nDreifach abgesicherte Notstromversorgung\nSichere Integration von Dieselgeneratoren\nStromspeicher Made in Europe – der Energy-Tower im Einsatz\nOptimierung durch M-TEC E-Smart Energiemanagement\n\n  \nWer Sie begleitet\nDr. Thomas Krausse\, CFO und Mitglied des Vorstands bei M-TEC\, verfügt über langjährige Erfahrung in der Umsetzung erneuerbarer Energielösungen für Großprojekte in Industrie\, Gewerbe und Landwirtschaft. \n  \nSichern Sie sich Ihren Platz und erfahren Sie\, wie Stromspeicher die Versorgungssicherheit und Wirtschaftlichkeit landwirtschaftlicher Betriebe steigern können. \n  \n 
URL:https://www.mtec-akademie.com/event/spotlight-stromspeicher-in-der-landwirtschaft/
LOCATION:Online\, https://zoom.us/j/96460018700?pwd=oLBfUcQSOM83ae52igNxW26tdwXNIK.1 
CATEGORIES:Online Zoom,Spotlight
ATTACH;FMTTYPE=image/png:https://www.mtec-akademie.com/wp-content/uploads/Landwirt_small_res-1.png
ORGANIZER;CN="M-TEC Energy Systems":MAILTO:sales@mtec-systems.com
END:VEVENT
BEGIN:VEVENT
DTSTART;TZID=Europe/Berlin:20251030T140000
DTEND;TZID=Europe/Berlin:20251030T144500
DTSTAMP:20260421T093947
CREATED:20251001T123757Z
LAST-MODIFIED:20251002T132522Z
UID:10000153-1761832800-1761835500@www.mtec-akademie.com
SUMMARY:Deep Dive: Gewerbe EMS & Stromspeicher – Effizienter Energieeinsatz
DESCRIPTION:Gewerbespeicher intelligent genutzt – Ein Speicher viele Ertragsmöglichkeiten\n  \nLastspitzen reduzieren\, Tarife dynamisch nutzen und Speicher wirtschaftlich einsetzen\nErfahren Sie praxisnah\, wie Sie Stromspeicher und Energiemanagement-Systeme im Gewerbe effizient einsetzen. Unser Webinar zeigt Ihnen\, wie Sie Lastspitzen vermeiden\, dynamische Stromtarife optimal nutzen und Notstromsysteme intelligent integrieren. \n\nWarum Sie das M-TEC Webinar weiterbringt\nIn 45 Minuten erhalten Sie fundierte Einblicke\, wie sich Energieströme und Speicherlösungen optimal steuern lassen\, welche wirtschaftlichen Potenziale realistisch sind und welche Praxisbeispiele besonders erfolgreich umgesetzt wurden. \n\nThemen des Webinars\n\nLastspitzen reduzieren und Energiekosten senken\nDynamische Stromtarife effizient nutzen\nWirtschaftlicher Einsatz von Stromspeichern\nIntegration von Notstromsystemen\nPraxisbeispiele mit M-TEC Energy Management Systemen\n\n  \nWer Sie begleitet\nDr. Thomas Krausse\, CFO und Mitglied des Vorstands bei M-TEC\, verfügt über langjährige Erfahrung in der Umsetzung erneuerbarer Energielösungen für Großprojekte in Industrie\, Gewerbe und Landwirtschaft. \n  \nSichern Sie sich Ihren Platz und erfahren Sie\, wie Stromspeicher die Versorgungssicherheit und Wirtschaftlichkeit landwirtschaftlicher Betriebe steigern können. \n  \n 
URL:https://www.mtec-akademie.com/event/gewerbe-ems-stromspeicher-effizienter-energieeinsatz/
LOCATION:Online\, https://zoom.us/j/96460018700?pwd=oLBfUcQSOM83ae52igNxW26tdwXNIK.1 
CATEGORIES:Online Zoom,Spotlight
ATTACH;FMTTYPE=image/jpeg:https://www.mtec-akademie.com/wp-content/uploads/FST2558-scaled.jpg
ORGANIZER;CN="M-TEC Energy Systems":MAILTO:sales@mtec-systems.com
END:VEVENT
END:VCALENDAR