BEGIN:VCALENDAR
VERSION:2.0
PRODID:-//M-TEC Systems Akademie - ECPv6.15.18//NONSGML v1.0//EN
CALSCALE:GREGORIAN
METHOD:PUBLISH
X-WR-CALNAME:M-TEC Systems Akademie
X-ORIGINAL-URL:https://www.mtec-akademie.com
X-WR-CALDESC:Veranstaltungen für M-TEC Systems Akademie
REFRESH-INTERVAL;VALUE=DURATION:PT1H
X-Robots-Tag:noindex
X-PUBLISHED-TTL:PT1H
BEGIN:VTIMEZONE
TZID:Europe/Berlin
BEGIN:DAYLIGHT
TZOFFSETFROM:+0100
TZOFFSETTO:+0200
TZNAME:CEST
DTSTART:20240331T010000
END:DAYLIGHT
BEGIN:STANDARD
TZOFFSETFROM:+0200
TZOFFSETTO:+0100
TZNAME:CET
DTSTART:20241027T010000
END:STANDARD
BEGIN:DAYLIGHT
TZOFFSETFROM:+0100
TZOFFSETTO:+0200
TZNAME:CEST
DTSTART:20250330T010000
END:DAYLIGHT
BEGIN:STANDARD
TZOFFSETFROM:+0200
TZOFFSETTO:+0100
TZNAME:CET
DTSTART:20251026T010000
END:STANDARD
BEGIN:DAYLIGHT
TZOFFSETFROM:+0100
TZOFFSETTO:+0200
TZNAME:CEST
DTSTART:20260329T010000
END:DAYLIGHT
BEGIN:STANDARD
TZOFFSETFROM:+0200
TZOFFSETTO:+0100
TZNAME:CET
DTSTART:20261025T010000
END:STANDARD
BEGIN:DAYLIGHT
TZOFFSETFROM:+0100
TZOFFSETTO:+0200
TZNAME:CEST
DTSTART:20270328T010000
END:DAYLIGHT
BEGIN:STANDARD
TZOFFSETFROM:+0200
TZOFFSETTO:+0100
TZNAME:CET
DTSTART:20271031T010000
END:STANDARD
END:VTIMEZONE
BEGIN:VEVENT
DTSTART;TZID=Europe/Berlin:20251118T090000
DTEND;TZID=Europe/Berlin:20251118T113000
DTSTAMP:20260421T094154
CREATED:20251104T111049Z
LAST-MODIFIED:20251104T111716Z
UID:10000155-1763456400-1763465400@www.mtec-akademie.com
SUMMARY:M-TEC und Consolar Kunden-Schulung
DESCRIPTION:Mehr Effizienz. Mehr Wissen. Mehr Erfolg.\nErfahren Sie\, wie M-TEC Wärmepumpen und Consolar PVT-Systeme künftig noch besser zusammenspielen.In unserem kompakten Online-Webinar zeigen wir\, wie die neue\, abgestimmte Systemtechnik Ihnen Planung\, Angebotserstellung und Kundenberatung spürbar erleichtert – und neue Chancen bei Ihren Projekten eröffnet. \nIhre Vorteile auf einen Blick \n\nNeue Systembroschüre: Perfektes Tool für Ihre Kundengespräche\nExcel-Konfigurator: In wenigen Klicks zur kompletten Anlagenplanung\nAktuelle Planungsunterlagen & Schemen: Klar\, praxisnah und abgestimmt\nNeue SOLINK-Modelle 2026: Verbesserte Leistung – kompaktere Bauweise\nNeueste Infos zur PVT-LS-Technik: Effizienzvorsprung mit Alleinstellungsmerkmal\n\nWarum teilnehmen?\nDie enge Abstimmung zwischen M-TEC und Consolar schafft einfachere Planung\, höhere Systemeffizienz und klare Argumente für Ihre Kunden.So gewinnen Sie Zeit\, Sicherheit – und neue Aufträge. \nAlle Unterlagen stehen Ihnen anschließend auf einer zentralen Website zum Download bereit. \nAnmeldung und Registrierung hier \nhttps://us02web.zoom.us/webinar/register/WN_oeX8SI_bRMqszzBk-GXcVA
URL:https://www.mtec-akademie.com/event/m-tec-und-consolar-kunden-schulung/
LOCATION:Online Webinar
CATEGORIES:Externes Webinar,Online Zoom
ATTACH;FMTTYPE=image/jpeg:https://www.mtec-akademie.com/wp-content/uploads/PXL_20250918_1312534393.jpg
END:VEVENT
BEGIN:VEVENT
DTSTART;TZID=Europe/Berlin:20251209T163000
DTEND;TZID=Europe/Berlin:20251209T173000
DTSTAMP:20260421T094154
CREATED:20251127T124026Z
LAST-MODIFIED:20251204T063828Z
UID:10000157-1765297800-1765301400@www.mtec-akademie.com
SUMMARY:Spotlight: Premiere einer neuen Wärmepumpengeneration
DESCRIPTION:Wir öffnen die Bühne für eine technische Neuheit\, die ein neues Kapitel in der Wärmepumpentechnologie schreibt. Im kommenden Spotlight präsentiert Peter Huemer erstmals die Propan-Solewärmepumpe für den Innenbereich\, die bis zu 26 kW Heizleistung erreicht und in jeder Konfiguration unter 150 g Kältemittel bleibt. Ex-Zonen\, Gasdetektion oder Speziallüftung werden nicht benötigt. Diese Lösung bringt Sicherheit\, Effizienz und Flexibilität in Einklang – ideal für Neubau und Sanierung. \nDas System ist modular konzipiert und deckt verschiedenste Leistungsanforderungen ab. \nPeter Huemer zeigt\, warum diese Technologie neue Wege öffnet und welchen Beitrag sie in einer vernetzten Gesamtenergielösung leisten kann. \nWir freuen uns auf Ihre Teilnahme am Spotlight\nund auf Ihre Gedanken vorab in den Kommentaren.
URL:https://www.mtec-akademie.com/event/spotlight-premiere-einer-neuen-waermepumpengeneration/
LOCATION:Online Webinar
CATEGORIES:Online Zoom,Spotlight
ATTACH;FMTTYPE=image/jpeg:https://www.mtec-akademie.com/wp-content/uploads/Peter-PR-scaled.jpg
ORGANIZER;CN="M-TEC W%C3%A4rmepumpen":MAILTO:office@mtec-systems.com
END:VEVENT
BEGIN:VEVENT
DTSTART;TZID=Europe/Berlin:20260129T140000
DTEND;TZID=Europe/Berlin:20260129T144500
DTSTAMP:20260421T094154
CREATED:20260108T072203Z
LAST-MODIFIED:20260108T075537Z
UID:10000186-1769695200-1769697900@www.mtec-akademie.com
SUMMARY:Deep Dive: Gewerbe EMS & Stromspeicher – Effizienter Energieeinsatz
DESCRIPTION:Gewerbespeicher intelligent genutzt – Ein Speicher viele Ertragsmöglichkeiten\n  \nLastspitzen reduzieren\, Tarife dynamisch nutzen und Speicher wirtschaftlich einsetzen\nErfahren Sie praxisnah\, wie Sie Stromspeicher und Energiemanagement-Systeme im Gewerbe effizient einsetzen. Unser Webinar zeigt Ihnen\, wie Sie Lastspitzen vermeiden\, dynamische Stromtarife optimal nutzen und Notstromsysteme intelligent integrieren. \n\nWarum Sie das M-TEC Webinar weiterbringt\nIn 45 Minuten erhalten Sie fundierte Einblicke\, wie sich Energieströme und Speicherlösungen optimal steuern lassen\, welche wirtschaftlichen Potenziale realistisch sind und welche Praxisbeispiele besonders erfolgreich umgesetzt wurden. \n\nThemen des Webinars\n\nLastspitzen reduzieren und Energiekosten senken\nDynamische Stromtarife effizient nutzen\nWirtschaftlicher Einsatz von Stromspeichern\nIntegration von Notstromsystemen\nPraxisbeispiele mit M-TEC Energy Management Systemen\n\n  \nWer Sie begleitet\nDr. Thomas Krausse\, CFO und Mitglied des Vorstands bei M-TEC\, verfügt über langjährige Erfahrung in der Umsetzung erneuerbarer Energielösungen für Großprojekte in Industrie\, Gewerbe und Landwirtschaft. \n  \nSichern Sie sich Ihren Platz und erfahren Sie\, wie Stromspeicher die Versorgungssicherheit und Wirtschaftlichkeit landwirtschaftlicher Betriebe steigern können. \n  \n 
URL:https://www.mtec-akademie.com/event/deep-dive-gewerbe-ems-stromspeicher-effizienter-energieeinsatz/
LOCATION:Online Webinar
CATEGORIES:Batteriespeicher,Online Zoom,Spotlight
ATTACH;FMTTYPE=image/jpeg:https://www.mtec-akademie.com/wp-content/uploads/FST2558-scaled.jpg
ORGANIZER;CN="M-TEC Energy Systems":MAILTO:sales@mtec-systems.com
END:VEVENT
END:VCALENDAR