BEGIN:VCALENDAR
VERSION:2.0
PRODID:-//M-TEC Systems Akademie - ECPv6.15.18//NONSGML v1.0//EN
CALSCALE:GREGORIAN
METHOD:PUBLISH
X-WR-CALNAME:M-TEC Systems Akademie
X-ORIGINAL-URL:https://www.mtec-akademie.com/en/
X-WR-CALDESC:Events for M-TEC Systems Akademie
REFRESH-INTERVAL;VALUE=DURATION:PT1H
X-Robots-Tag:noindex
X-PUBLISHED-TTL:PT1H
BEGIN:VTIMEZONE
TZID:Europe/Berlin
BEGIN:DAYLIGHT
TZOFFSETFROM:+0100
TZOFFSETTO:+0200
TZNAME:CEST
DTSTART:20240331T010000
END:DAYLIGHT
BEGIN:STANDARD
TZOFFSETFROM:+0200
TZOFFSETTO:+0100
TZNAME:CET
DTSTART:20241027T010000
END:STANDARD
BEGIN:DAYLIGHT
TZOFFSETFROM:+0100
TZOFFSETTO:+0200
TZNAME:CEST
DTSTART:20250330T010000
END:DAYLIGHT
BEGIN:STANDARD
TZOFFSETFROM:+0200
TZOFFSETTO:+0100
TZNAME:CET
DTSTART:20251026T010000
END:STANDARD
BEGIN:DAYLIGHT
TZOFFSETFROM:+0100
TZOFFSETTO:+0200
TZNAME:CEST
DTSTART:20260329T010000
END:DAYLIGHT
BEGIN:STANDARD
TZOFFSETFROM:+0200
TZOFFSETTO:+0100
TZNAME:CET
DTSTART:20261025T010000
END:STANDARD
END:VTIMEZONE
BEGIN:VEVENT
DTSTART;TZID=Europe/Berlin:20251030T150000
DTEND;TZID=Europe/Berlin:20251030T154000
DTSTAMP:20260421T025740
CREATED:20250925T103235Z
LAST-MODIFIED:20251001T124731Z
UID:3551-1761836400-1761838800@www.mtec-akademie.com
SUMMARY:Spotlight: Store\, Heat\, Cool – Holistic Energy Management Solutions for Commercial and Industrial Applications\, Made in Europe
DESCRIPTION:Store\, Heat\, Cool – Holistic Energy Management Solutions for Commercial and Industrial Applications\, Made in Europe\nDiscover how M-TEC Energy Systems empowers system partners to offer their customers comprehensive\, future-proof energy solutions. From photovoltaics and storage systems to cooling\, heat recovery\, and charging points – all seamlessly integrated into a flexible system that reduces operating costs and unlocks new business opportunities. \nWhat to Expect:\nContent: Practical insights into modular storage and energy management systems\, technical highlights\, and real-world applications for small and medium-sized enterprises.\nDuration: 30 minutes of concise information plus a Q&A session.\nFormat: Online via Zoom – convenient from your workplace. \n\nWho Should Attend:\nInstallers\, planners\, and system partners who want to expand their offerings to become a one-stop-shop for energy systems. Especially suitable for decision-makers\, technicians\, and sales professionals looking to deliver real added value to their customers. \n\nYour Benefits:\n\nTechnical Overview: Learn how M-TEC E-Smart integrates multiple energy consumers in a business. From cold storage and heat pumps to backup power systems.\nPractical Examples: See how load shedding\, price-driven cooling\, or solar-driven variable-speed heat pumps optimize energy efficiency.\nMarket Advantages: Position yourself as a holistic energy partner\, secure attractive margins\, and stay ahead of the competition.\n\nIn just 40 minutes\, discover how to delight your customers with complete energy management solutions\, streamline operations\, and open new business opportunities. \nRegister now and help shape the future of energy for commercial and industrial businesses! \n 
URL:https://www.mtec-akademie.com/en/event/holistic-energy-management-solutions-for-commercial-and-industrial/
LOCATION:Online\, https://zoom.us/j/96460018700?pwd=oLBfUcQSOM83ae52igNxW26tdwXNIK.1 
CATEGORIES:Online Zoom,Spotlight
ATTACH;FMTTYPE=image/jpeg:https://www.mtec-akademie.com/wp-content/uploads/FST2558-scaled.jpg
ORGANIZER;CN="M-TEC International":MAILTO:office@mtec-systems.com
END:VEVENT
END:VCALENDAR