BEGIN:VCALENDAR
VERSION:2.0
PRODID:-//M-TEC Systems Akademie - ECPv6.15.18//NONSGML v1.0//EN
CALSCALE:GREGORIAN
METHOD:PUBLISH
X-ORIGINAL-URL:https://www.mtec-akademie.com/en/
X-WR-CALDESC:Events for M-TEC Systems Akademie
REFRESH-INTERVAL;VALUE=DURATION:PT1H
X-Robots-Tag:noindex
X-PUBLISHED-TTL:PT1H
BEGIN:VTIMEZONE
TZID:Europe/Berlin
BEGIN:DAYLIGHT
TZOFFSETFROM:+0100
TZOFFSETTO:+0200
TZNAME:CEST
DTSTART:20240331T010000
END:DAYLIGHT
BEGIN:STANDARD
TZOFFSETFROM:+0200
TZOFFSETTO:+0100
TZNAME:CET
DTSTART:20241027T010000
END:STANDARD
BEGIN:DAYLIGHT
TZOFFSETFROM:+0100
TZOFFSETTO:+0200
TZNAME:CEST
DTSTART:20250330T010000
END:DAYLIGHT
BEGIN:STANDARD
TZOFFSETFROM:+0200
TZOFFSETTO:+0100
TZNAME:CET
DTSTART:20251026T010000
END:STANDARD
BEGIN:DAYLIGHT
TZOFFSETFROM:+0100
TZOFFSETTO:+0200
TZNAME:CEST
DTSTART:20260329T010000
END:DAYLIGHT
BEGIN:STANDARD
TZOFFSETFROM:+0200
TZOFFSETTO:+0100
TZNAME:CET
DTSTART:20261025T010000
END:STANDARD
END:VTIMEZONE
BEGIN:VEVENT
DTSTART;TZID=Europe/Berlin:20250211T110000
DTEND;TZID=Europe/Berlin:20250211T114500
DTSTAMP:20260422T004932
CREATED:20250116T132915Z
LAST-MODIFIED:20250116T140627Z
UID:10000071-1739271600-1739274300@www.mtec-akademie.com
SUMMARY:Spotlight: Battery Storage Solutions
DESCRIPTION:Powerful\, Versatile\, and Future-Proof\nDiscover M-TEC storage solutions – customized energy storage systems designed for businesses\, industries\, agriculture\, and municipalities. With capacities ranging from 38 kWh to the MWh range\, they offer maximum flexibility and efficiency. Whether for optimizing self-consumption or peak load management\, our solutions sustainably reduce energy costs and enhance your energy independence. \nWhat to Expect:\nContent: Insights into features and benefits\, including technical highlights and practical application examples.\nDuration: 30 minutes of concise information plus a Q&A session.\nFormat: Online via Zoom – convenient and flexible from your workplace. \nWho is the Session For?\nNew and existing partners seeking efficient and future-proof comprehensive energy solutions. Ideal for executives\, technicians\, and experts in sales and marketing. \nYour Benefits:\n\nTechnical Overview: Understand how the storage solutions work and integrate into existing systems.\nPractical Examples: Discover concrete use cases.\nMarket Perspectives: Leverage the advantages of this innovative solution for your business.\n\nIn just 30 minutes\, you’ll learn how our storage solutions can expand your offerings into a comprehensive energy solution and boost your efficiency. \nRegister now and seize the opportunities of the future!
URL:https://www.mtec-akademie.com/en/event/spotlight-battery-storage-solutions-01-25/
LOCATION:Online\, https://zoom.us/j/96460018700?pwd=oLBfUcQSOM83ae52igNxW26tdwXNIK.1 
CATEGORIES:Online Zoom,Spotlight
ATTACH;FMTTYPE=image/jpeg:https://www.mtec-akademie.com/wp-content/uploads/FST7941-scaled.jpg
ORGANIZER;CN="M-TEC International":MAILTO:office@mtec-systems.com
END:VEVENT
END:VCALENDAR