BEGIN:VCALENDAR
VERSION:2.0
PRODID:-//M-TEC Systems Akademie - ECPv6.15.18//NONSGML v1.0//EN
CALSCALE:GREGORIAN
METHOD:PUBLISH
X-ORIGINAL-URL:https://www.mtec-akademie.com/en/
X-WR-CALDESC:Events for M-TEC Systems Akademie
REFRESH-INTERVAL;VALUE=DURATION:PT1H
X-Robots-Tag:noindex
X-PUBLISHED-TTL:PT1H
BEGIN:VTIMEZONE
TZID:Europe/Berlin
BEGIN:DAYLIGHT
TZOFFSETFROM:+0100
TZOFFSETTO:+0200
TZNAME:CEST
DTSTART:20240331T010000
END:DAYLIGHT
BEGIN:STANDARD
TZOFFSETFROM:+0200
TZOFFSETTO:+0100
TZNAME:CET
DTSTART:20241027T010000
END:STANDARD
BEGIN:DAYLIGHT
TZOFFSETFROM:+0100
TZOFFSETTO:+0200
TZNAME:CEST
DTSTART:20250330T010000
END:DAYLIGHT
BEGIN:STANDARD
TZOFFSETFROM:+0200
TZOFFSETTO:+0100
TZNAME:CET
DTSTART:20251026T010000
END:STANDARD
BEGIN:DAYLIGHT
TZOFFSETFROM:+0100
TZOFFSETTO:+0200
TZNAME:CEST
DTSTART:20260329T010000
END:DAYLIGHT
BEGIN:STANDARD
TZOFFSETFROM:+0200
TZOFFSETTO:+0100
TZNAME:CET
DTSTART:20261025T010000
END:STANDARD
END:VTIMEZONE
BEGIN:VEVENT
DTSTART;TZID=Europe/Berlin:20250311T110000
DTEND;TZID=Europe/Berlin:20250311T114500
DTSTAMP:20260421T231125
CREATED:20250116T142809Z
LAST-MODIFIED:20250116T142809Z
UID:10000073-1741690800-1741693500@www.mtec-akademie.com
SUMMARY:Spotlight: Heat Pump Solutions
DESCRIPTION:Sustainable\, Efficient\, and Versatile\nDiscover the complete heat pump portfolio from M-TEC – the ideal solution for environmentally friendly heating and cooling in residential\, commercial\, and industrial settings. Our air\, ground\, and propane heat pumps combine innovative technology with maximum efficiency\, minimal CO₂ footprint\, and flexible application options. \nWhat to Expect:\n\nContent: Insights into features and benefits\, including technical highlights and practical application examples.\nDuration: 30 minutes of concise information plus a Q&A session.\nFormat: Online via Zoom – convenient and flexible from your workplace.\n\nWho is the Session For?\nNew and existing partners seeking an efficient and future-proof comprehensive energy solution. Ideal for executives\, technicians\, and experts in sales and marketing. \nYour Benefits:\n\nTechnical Overview: Understand how the heat pumps work and how they can be integrated into existing systems.\nPractical Examples: Discover concrete use cases.\nMarket Perspectives: Leverage the advantages of this innovative solution for your business.\n\nIn just 30 minutes\, you’ll learn how our heat pumps can expand your offerings into a comprehensive energy solution and boost your efficiency. \nRegister now and seize the opportunities of the future!
URL:https://www.mtec-akademie.com/en/event/spotlight-heat-pump-solutions-01-25/
LOCATION:Online\, https://zoom.us/j/96460018700?pwd=oLBfUcQSOM83ae52igNxW26tdwXNIK.1 
CATEGORIES:Online Zoom,Spotlight
ATTACH;FMTTYPE=image/jpeg:https://www.mtec-akademie.com/wp-content/uploads/Image-02.jpeg
ORGANIZER;CN="M-TEC International":MAILTO:office@mtec-systems.com
END:VEVENT
END:VCALENDAR