BEGIN:VCALENDAR
VERSION:2.0
PRODID:-//M-TEC Systems Akademie - ECPv6.15.18//NONSGML v1.0//EN
CALSCALE:GREGORIAN
METHOD:PUBLISH
X-WR-CALNAME:M-TEC Systems Akademie
X-ORIGINAL-URL:https://www.mtec-akademie.com/es/
X-WR-CALDESC:Eventos para M-TEC Systems Akademie
REFRESH-INTERVAL;VALUE=DURATION:PT1H
X-Robots-Tag:noindex
X-PUBLISHED-TTL:PT1H
BEGIN:VTIMEZONE
TZID:Europe/Berlin
BEGIN:DAYLIGHT
TZOFFSETFROM:+0100
TZOFFSETTO:+0200
TZNAME:CEST
DTSTART:20240331T010000
END:DAYLIGHT
BEGIN:STANDARD
TZOFFSETFROM:+0200
TZOFFSETTO:+0100
TZNAME:CET
DTSTART:20241027T010000
END:STANDARD
BEGIN:DAYLIGHT
TZOFFSETFROM:+0100
TZOFFSETTO:+0200
TZNAME:CEST
DTSTART:20250330T010000
END:DAYLIGHT
BEGIN:STANDARD
TZOFFSETFROM:+0200
TZOFFSETTO:+0100
TZNAME:CET
DTSTART:20251026T010000
END:STANDARD
BEGIN:DAYLIGHT
TZOFFSETFROM:+0100
TZOFFSETTO:+0200
TZNAME:CEST
DTSTART:20260329T010000
END:DAYLIGHT
BEGIN:STANDARD
TZOFFSETFROM:+0200
TZOFFSETTO:+0100
TZNAME:CET
DTSTART:20261025T010000
END:STANDARD
END:VTIMEZONE
BEGIN:VEVENT
DTSTART;TZID=Europe/Berlin:20250526T150000
DTEND;TZID=Europe/Berlin:20250526T154000
DTSTAMP:20260421T023541
CREATED:20250430T112027Z
LAST-MODIFIED:20250430T113737Z
UID:10000120-1748271600-1748274000@www.mtec-akademie.com
SUMMARY:Comercial & Industrial - Webinar 01/25
DESCRIPTION:¡Presentamos nuestras baterías\, el futuro para el sector Comercial & Industrial!\nDescubra las soluciones que transforman la gestión energética a gran escala con nuestros sistemas de almacenamiento de alto rendimiento: \n\nEnergy Tower\nEnergy Block\nEnergy Rock\nBESS Container\n\n  \nEn tan solo 40 minutos\, exploraremos las capacidades\, ventajas y aplicaciones de estos potentes sistemas diseñados para entornos comerciales e industriales exigentes. Le mostraremos cómo maximizar eficiencia\, autonomía y sostenibilidad en sus proyectos energéticos de gran escala. \n Formato: Online – Webinar gratuito \nÚnase a nosotros y dé el siguiente paso hacia una infraestructura energética inteligente y robusta. Regístrese ahora y prepárese para liderar el cambio con M-TEC!
URL:https://www.mtec-akademie.com/es/event/comercial-industrial-webinar/
LOCATION:Online\, https://zoom.us/j/96460018700?pwd=oLBfUcQSOM83ae52igNxW26tdwXNIK.1 
CATEGORIES:Online Zoom
ATTACH;FMTTYPE=image/jpeg:https://www.mtec-akademie.com/wp-content/uploads/FST2558-scaled.jpg
ORGANIZER;CN="M-TEC Spain":MAILTO:office@mtec-systems.com
END:VEVENT
BEGIN:VEVENT
DTSTART;TZID=Europe/Berlin:20250529T150000
DTEND;TZID=Europe/Berlin:20250529T154000
DTSTAMP:20260421T023541
CREATED:20250430T112511Z
LAST-MODIFIED:20250430T113816Z
UID:10000121-1748530800-1748533200@www.mtec-akademie.com
SUMMARY:Comercial & Industrial - Webinar 02/25
DESCRIPTION:¡Presentamos nuestras baterías\, el futuro para el sector Comercial & Industrial!\nDescubra las soluciones que transforman la gestión energética a gran escala con nuestros sistemas de almacenamiento de alto rendimiento: \n\nEnergy Tower\nEnergy Block\nEnergy Rock\nBESS Container\n\n  \nEn tan solo 40 minutos\, exploraremos las capacidades\, ventajas y aplicaciones de estos potentes sistemas diseñados para entornos comerciales e industriales exigentes. Le mostraremos cómo maximizar eficiencia\, autonomía y sostenibilidad en sus proyectos energéticos de gran escala. \n Formato: Online – Webinar gratuito \nÚnase a nosotros y dé el siguiente paso hacia una infraestructura energética inteligente y robusta. Regístrese ahora y prepárese para liderar el cambio con M-TEC!
URL:https://www.mtec-akademie.com/es/event/comercial-industrial-webinar-02-25/
LOCATION:Online\, https://zoom.us/j/96460018700?pwd=oLBfUcQSOM83ae52igNxW26tdwXNIK.1 
CATEGORIES:Online Zoom
ATTACH;FMTTYPE=image/jpeg:https://www.mtec-akademie.com/wp-content/uploads/FST2558-scaled.jpg
ORGANIZER;CN="M-TEC Spain":MAILTO:office@mtec-systems.com
END:VEVENT
BEGIN:VEVENT
DTSTART;TZID=Europe/Berlin:20250916T120000
DTEND;TZID=Europe/Berlin:20250916T124000
DTSTAMP:20260421T023541
CREATED:20250821T133729Z
LAST-MODIFIED:20250821T134748Z
UID:10000144-1758024000-1758026400@www.mtec-akademie.com
SUMMARY:Webinar exclusivo: Cómo hacer instalaciones retro-fit con equipos de M-TEC
DESCRIPTION:Webinar exclusivo: Cómo hacer instalaciones retro-fit con equipos de M-TEC \n¿Tienes clientes con instalaciones fotovoltaicas ya en marcha?\nDescubre cómo ampliar la eficiencia y autonomía de sus sistemas solares añadiendo baterías M-TEC\, sin necesidad de empezar desde cero. \nEn tan solo 40 minutos\, exploraremos:\nLas diferentes opciones de retrofit disponibles.\nLa amplia lista de dispositivos compatibles con nuestro sistema de gestión energética E-Smart EMS. \nFormato: Online – Webinar gratuito \n¡Reserva tu plaza ahora y aprende cómo ofrecer más valor a tus clientes con soluciones retrofit de M-TEC!
URL:https://www.mtec-akademie.com/es/event/webinar-exclusivo/
LOCATION:Online\, https://zoom.us/j/96460018700?pwd=oLBfUcQSOM83ae52igNxW26tdwXNIK.1 
CATEGORIES:Online Zoom
ATTACH;FMTTYPE=image/png:https://www.mtec-akademie.com/wp-content/uploads/MORPHEN-2-1.png
ORGANIZER;CN="M-TEC Spain":MAILTO:office@mtec-systems.com
END:VEVENT
BEGIN:VEVENT
DTSTART;TZID=Europe/Berlin:20250918T163000
DTEND;TZID=Europe/Berlin:20250918T171000
DTSTAMP:20260421T023541
CREATED:20250821T134505Z
LAST-MODIFIED:20250821T134505Z
UID:10000145-1758213000-1758215400@www.mtec-akademie.com
SUMMARY:Webinar exclusivo: Cómo hacer instalaciones retro-fit con equipos de M-TEC
DESCRIPTION:Webinar exclusivo: Cómo hacer instalaciones retro-fit con equipos de M-TEC \n¿Tienes clientes con instalaciones fotovoltaicas ya en marcha?\nDescubre cómo ampliar la eficiencia y autonomía de sus sistemas solares añadiendo baterías M-TEC\, sin necesidad de empezar desde cero. \nEn tan solo 40 minutos\, exploraremos:\nLas diferentes opciones de retrofit disponibles.\nLa amplia lista de dispositivos compatibles con nuestro sistema de gestión energética E-Smart EMS. \nFormato: Online – Webinar gratuito \n¡Reserva tu plaza ahora y aprende cómo ofrecer más valor a tus clientes con soluciones retrofit de M-TEC!
URL:https://www.mtec-akademie.com/es/event/webinar-exclusivo-como-hacer-instalaciones-retro-fit-con-equipos-de-m-tec/
LOCATION:Online\, https://zoom.us/j/96460018700?pwd=oLBfUcQSOM83ae52igNxW26tdwXNIK.1 
CATEGORIES:Online Zoom
ATTACH;FMTTYPE=image/png:https://www.mtec-akademie.com/wp-content/uploads/MORPHEN-2-1.png
ORGANIZER;CN="M-TEC Spain":MAILTO:office@mtec-systems.com
END:VEVENT
END:VCALENDAR