BEGIN:VCALENDAR
VERSION:2.0
PRODID:-//M-TEC Systems Akademie - ECPv6.15.18//NONSGML v1.0//EN
CALSCALE:GREGORIAN
METHOD:PUBLISH
X-WR-CALNAME:M-TEC Systems Akademie
X-ORIGINAL-URL:https://www.mtec-akademie.com
X-WR-CALDESC:Veranstaltungen für M-TEC Systems Akademie
REFRESH-INTERVAL;VALUE=DURATION:PT1H
X-Robots-Tag:noindex
X-PUBLISHED-TTL:PT1H
BEGIN:VTIMEZONE
TZID:Europe/Berlin
BEGIN:DAYLIGHT
TZOFFSETFROM:+0100
TZOFFSETTO:+0200
TZNAME:CEST
DTSTART:20250330T010000
END:DAYLIGHT
BEGIN:STANDARD
TZOFFSETFROM:+0200
TZOFFSETTO:+0100
TZNAME:CET
DTSTART:20251026T010000
END:STANDARD
BEGIN:DAYLIGHT
TZOFFSETFROM:+0100
TZOFFSETTO:+0200
TZNAME:CEST
DTSTART:20260329T010000
END:DAYLIGHT
BEGIN:STANDARD
TZOFFSETFROM:+0200
TZOFFSETTO:+0100
TZNAME:CET
DTSTART:20261025T010000
END:STANDARD
BEGIN:DAYLIGHT
TZOFFSETFROM:+0100
TZOFFSETTO:+0200
TZNAME:CEST
DTSTART:20270328T010000
END:DAYLIGHT
BEGIN:STANDARD
TZOFFSETFROM:+0200
TZOFFSETTO:+0100
TZNAME:CET
DTSTART:20271031T010000
END:STANDARD
END:VTIMEZONE
BEGIN:VEVENT
DTSTART;TZID=Europe/Berlin:20260129T140000
DTEND;TZID=Europe/Berlin:20260129T144500
DTSTAMP:20260421T004319
CREATED:20260108T072203Z
LAST-MODIFIED:20260108T075537Z
UID:4001-1769695200-1769697900@www.mtec-akademie.com
SUMMARY:Deep Dive: Gewerbe EMS & Stromspeicher – Effizienter Energieeinsatz
DESCRIPTION:Gewerbespeicher intelligent genutzt – Ein Speicher viele Ertragsmöglichkeiten\n  \nLastspitzen reduzieren\, Tarife dynamisch nutzen und Speicher wirtschaftlich einsetzen\nErfahren Sie praxisnah\, wie Sie Stromspeicher und Energiemanagement-Systeme im Gewerbe effizient einsetzen. Unser Webinar zeigt Ihnen\, wie Sie Lastspitzen vermeiden\, dynamische Stromtarife optimal nutzen und Notstromsysteme intelligent integrieren. \n\nWarum Sie das M-TEC Webinar weiterbringt\nIn 45 Minuten erhalten Sie fundierte Einblicke\, wie sich Energieströme und Speicherlösungen optimal steuern lassen\, welche wirtschaftlichen Potenziale realistisch sind und welche Praxisbeispiele besonders erfolgreich umgesetzt wurden. \n\nThemen des Webinars\n\nLastspitzen reduzieren und Energiekosten senken\nDynamische Stromtarife effizient nutzen\nWirtschaftlicher Einsatz von Stromspeichern\nIntegration von Notstromsystemen\nPraxisbeispiele mit M-TEC Energy Management Systemen\n\n  \nWer Sie begleitet\nDr. Thomas Krausse\, CFO und Mitglied des Vorstands bei M-TEC\, verfügt über langjährige Erfahrung in der Umsetzung erneuerbarer Energielösungen für Großprojekte in Industrie\, Gewerbe und Landwirtschaft. \n  \nSichern Sie sich Ihren Platz und erfahren Sie\, wie Stromspeicher die Versorgungssicherheit und Wirtschaftlichkeit landwirtschaftlicher Betriebe steigern können. \n  \n 
URL:https://www.mtec-akademie.com/event/deep-dive-gewerbe-ems-stromspeicher-effizienter-energieeinsatz/
LOCATION:Online Webinar
CATEGORIES:Batteriespeicher,Online Zoom,Spotlight
ATTACH;FMTTYPE=image/jpeg:https://www.mtec-akademie.com/wp-content/uploads/FST2558-scaled.jpg
ORGANIZER;CN="M-TEC Energy Systems":MAILTO:sales@mtec-systems.com
END:VEVENT
END:VCALENDAR