BEGIN:VCALENDAR
VERSION:2.0
PRODID:-//M-TEC Systems Akademie - ECPv6.15.18//NONSGML v1.0//EN
CALSCALE:GREGORIAN
METHOD:PUBLISH
X-WR-CALNAME:M-TEC Systems Akademie
X-ORIGINAL-URL:https://www.mtec-akademie.com
X-WR-CALDESC:Veranstaltungen für M-TEC Systems Akademie
REFRESH-INTERVAL;VALUE=DURATION:PT1H
X-Robots-Tag:noindex
X-PUBLISHED-TTL:PT1H
BEGIN:VTIMEZONE
TZID:Europe/Berlin
BEGIN:DAYLIGHT
TZOFFSETFROM:+0100
TZOFFSETTO:+0200
TZNAME:CEST
DTSTART:20250330T010000
END:DAYLIGHT
BEGIN:STANDARD
TZOFFSETFROM:+0200
TZOFFSETTO:+0100
TZNAME:CET
DTSTART:20251026T010000
END:STANDARD
BEGIN:DAYLIGHT
TZOFFSETFROM:+0100
TZOFFSETTO:+0200
TZNAME:CEST
DTSTART:20260329T010000
END:DAYLIGHT
BEGIN:STANDARD
TZOFFSETFROM:+0200
TZOFFSETTO:+0100
TZNAME:CET
DTSTART:20261025T010000
END:STANDARD
BEGIN:DAYLIGHT
TZOFFSETFROM:+0100
TZOFFSETTO:+0200
TZNAME:CEST
DTSTART:20270328T010000
END:DAYLIGHT
BEGIN:STANDARD
TZOFFSETFROM:+0200
TZOFFSETTO:+0100
TZNAME:CET
DTSTART:20271031T010000
END:STANDARD
END:VTIMEZONE
BEGIN:VEVENT
DTSTART;TZID=Europe/Berlin:20260219T110000
DTEND;TZID=Europe/Berlin:20260219T150000
DTSTAMP:20260420T224157
CREATED:20251230T144656Z
LAST-MODIFIED:20260131T125631Z
UID:3983-1771498800-1771513200@www.mtec-akademie.com
SUMMARY:VHPA Insight Live 02-26
DESCRIPTION:Technologie verstehen. System begreifen. Praxis erleben. \nIm Mittelpunkt steht das Systemdenken. Wie Modularität Effizienz ermöglicht. Wie intelligentes Quellenmanagement neue Perspektiven schafft. Und wie Technologie im Zusammenspiel ihren echten Mehrwert entfaltet. \nVHPA Insight Live ist ein Live-Kennenlerntermin für alle\, die das System nicht nur sehen\, sondern verstehen wollen. Mit echtem Einblick in Technologie\, Aufbau und Betrieb. Direkt. Transparent. Praxisnah. \nWas Sie live erleben \nVorstellung der Module\nAufbau\, Logik und Zusammenspiel der einzelnen Systemkomponenten. \nFeatures im Detail\nWas die VHPA auszeichnet und warum bestimmte Funktionen im Alltag entscheidend sind. \nVHPA im Livebetrieb\nDas System in Aktion. Reales Verhalten\, reale Abläufe\, reale Antworten. \nVHPA Insight Live\nKein Vortrag. Keine Schulung.\nEin offener Blick auf Technologie und die Möglichkeit\, Konfigurationen zu verstehen und einzuordnen.
URL:https://www.mtec-akademie.com/event/technikschulung-vhpa-02-26/
LOCATION:M-TEC Zentrale\, Aumühlweg 20\, Pinsdorf\, 4812
CATEGORIES:Spotlight,Wärmepumpen
ATTACH;FMTTYPE=image/jpeg:https://www.mtec-akademie.com/wp-content/uploads/FST7947-scaled.jpg
ORGANIZER;CN="M-TEC W%C3%A4rmepumpen":MAILTO:office@mtec-systems.com
GEO:47.9379859;13.7549952
X-APPLE-STRUCTURED-LOCATION;VALUE=URI;X-ADDRESS=M-TEC Zentrale Aumühlweg 20 Pinsdorf 4812;X-APPLE-RADIUS=500;X-TITLE=Aumühlweg 20:geo:13.7549952,47.9379859
END:VEVENT
END:VCALENDAR