BEGIN:VCALENDAR
VERSION:2.0
PRODID:-//M-TEC Systems Akademie - ECPv6.15.18//NONSGML v1.0//EN
CALSCALE:GREGORIAN
METHOD:PUBLISH
X-WR-CALNAME:M-TEC Systems Akademie
X-ORIGINAL-URL:https://www.mtec-akademie.com/nl/
X-WR-CALDESC:Evenementen voor M-TEC Systems Akademie
REFRESH-INTERVAL;VALUE=DURATION:PT1H
X-Robots-Tag:noindex
X-PUBLISHED-TTL:PT1H
BEGIN:VTIMEZONE
TZID:Europe/Berlin
BEGIN:DAYLIGHT
TZOFFSETFROM:+0100
TZOFFSETTO:+0200
TZNAME:CEST
DTSTART:20250330T010000
END:DAYLIGHT
BEGIN:STANDARD
TZOFFSETFROM:+0200
TZOFFSETTO:+0100
TZNAME:CET
DTSTART:20251026T010000
END:STANDARD
BEGIN:DAYLIGHT
TZOFFSETFROM:+0100
TZOFFSETTO:+0200
TZNAME:CEST
DTSTART:20260329T010000
END:DAYLIGHT
BEGIN:STANDARD
TZOFFSETFROM:+0200
TZOFFSETTO:+0100
TZNAME:CET
DTSTART:20261025T010000
END:STANDARD
BEGIN:DAYLIGHT
TZOFFSETFROM:+0100
TZOFFSETTO:+0200
TZNAME:CEST
DTSTART:20270328T010000
END:DAYLIGHT
BEGIN:STANDARD
TZOFFSETFROM:+0200
TZOFFSETTO:+0100
TZNAME:CET
DTSTART:20271031T010000
END:STANDARD
END:VTIMEZONE
BEGIN:VEVENT
DTSTART;TZID=Europe/Berlin:20260202T090000
DTEND;TZID=Europe/Berlin:20260202T094500
DTSTAMP:20260421T064121
CREATED:20250417T064138Z
LAST-MODIFIED:20260131T130412Z
UID:10000089-1770022800-1770025500@www.mtec-akademie.com
SUMMARY:Spotlight: Energy-Hero®
DESCRIPTION:Compact\, praktisch en inspirerend\nMaak kennis met de Energy-Hero® – de revolutionaire 2-in-1 oplossing die een energiemeter en energiebeheersoftware combineert in één apparaat. Dankzij de eenvoudige installatie en naadloze integratie kunt u uw eigen energieverbruik maximaliseren en nieuw marktpotentieel aanboren. \nWat u kunt verwachten:\n\nInhoud: Gedetailleerd inzicht in de functies en voordelen van Energy-Hero®\, inclusief technische hoogtepunten en praktische toepassingsvoorbeelden.\nDuur: 30 minuten compacte informatie plus een interactieve vraag- en antwoordsessie.\nFormat: Online via Zoom – gemakkelijk en flexibel vanaf uw werkplek.\n\nVoor wie is de sessie geschikt?\nNieuwe en bestaande partners die op zoek zijn naar een efficiënte en toekomstbestendige oplossing voor energiebeheer – ideaal voor algemeen directeuren\, technici en verkoop- en marketingspecialisten. \nUw voordelen:\n\nTechnisch overzicht: Begrijp hoe Energy-Hero® werkt en integreert met bestaande systemen.\nPraktische voorbeelden: Ontdek concrete toepassingsmogelijkheden.\nMarktperspectieven: Benut de voordelen van deze innovatieve oplossing voor uw bedrijf.\n\nNa slechts 30 minuten weet u precies hoe de Energy-Hero® uw aanbod kan uitbreiden en uw efficiëntie kan verhogen. \nRegistreer nu en grijp de kansen van de toekomst!
URL:https://www.mtec-akademie.com/nl/event/spotlight-energy-hero/
LOCATION:Online\, https://zoom.us/j/96460018700?pwd=oLBfUcQSOM83ae52igNxW26tdwXNIK.1 
CATEGORIES:Online Zoom,Spotlight
ATTACH;FMTTYPE=image/jpeg:https://www.mtec-akademie.com/wp-content/uploads/hero-spotlight.jpg
ORGANIZER;CN="M-TEC Nederland":MAILTO:info@mtec-systems.nl
END:VEVENT
BEGIN:VEVENT
DTSTART;TZID=Europe/Berlin:20260209T090000
DTEND;TZID=Europe/Berlin:20260209T094500
DTSTAMP:20260421T064121
CREATED:20250417T053620Z
LAST-MODIFIED:20260131T130412Z
UID:10000090-1770627600-1770630300@www.mtec-akademie.com
SUMMARY:Spotlight: Energy-Wizard
DESCRIPTION:Efficiënt\, veelzijdig en krachtig\nOntdek meer over de Energy-Wizard – de innovatieve PV-omvormer die naadloos integreert in uw bestaande energieoplossing. Met zijn hoge efficiëntie\, flexibele vermogensbereiken en eenvoudige plug & play-installatie is de Energy Wizard de perfecte keuze voor efficiënte energieoplossingen. \nWat u kunt verwachten:\n\nInhoud: Gedetailleerd inzicht in de functies en voordelen van Energy-Wizard\, inclusief technische hoogtepunten en praktische toepassingsvoorbeelden.\nDuur: 30 minuten compacte informatie plus een interactieve vraag- en antwoordsessie.\nFormat: Online via Zoom – gemakkelijk en flexibel vanaf uw werkplek.\n\nVoor wie is de sessie geschikt?\nNieuwe en bestaande partners die op zoek zijn naar een efficiënte en toekomstbestendige oplossing voor energiebeheer – ideaal voor algemeen directeuren\, technici en verkoop- en marketingspecialisten. \nUw voordelen:\n\nTechnisch overzicht: Begrijp hoe Energy-Wizard werkt en integreert met bestaande systemen.\nPraktische voorbeelden: Ontdek concrete toepassingsmogelijkheden.\nMarktperspectieven: Benut de voordelen van deze innovatieve oplossing voor uw bedrijf.\n\nNa slechts 30 minuten weet u precies hoe de Energy-Wizard uw aanbod kan uitbreiden en uw efficiëntie kan verhogen. \nRegistreer nu en grijp de kansen van de toekomst!
URL:https://www.mtec-akademie.com/nl/event/spotlight-energy-wizard/
LOCATION:Online\, https://zoom.us/j/96460018700?pwd=oLBfUcQSOM83ae52igNxW26tdwXNIK.1 
CATEGORIES:Online Zoom,Spotlight
ATTACH;FMTTYPE=image/jpeg:https://www.mtec-akademie.com/wp-content/uploads/FST0843-2-scaled.jpg
ORGANIZER;CN="M-TEC Nederland":MAILTO:info@mtec-systems.nl
END:VEVENT
BEGIN:VEVENT
DTSTART;TZID=Europe/Berlin:20260226T090000
DTEND;TZID=Europe/Berlin:20260226T094500
DTSTAMP:20260421T064121
CREATED:20250417T085751Z
LAST-MODIFIED:20260131T130415Z
UID:10000100-1772096400-1772099100@www.mtec-akademie.com
SUMMARY:Spotlight: Brinebron warmtepomp propaan
DESCRIPTION:Innovatief\, veilig en milieuvriendelijk\nMaak kennis met de brinebron warmtepompen met propaantechnologie van M-TEC – de innovatieve oplossing voor maximale efficiëntie en minimale milieubelasting. Dankzij de geavanceerde technologie bieden ze maximale efficiëntie\, een minimale CO2-voetafdruk en perfecte integratie in duurzame energiesystemen. \nWat u kunt verwachten:\n\nInhoud: Inzicht in functies en voordelen\, inclusief technische hoogtepunten en praktische toepassingsvoorbeelden.\nDuur: 30 minuten compacte informatie plus een interactieve vraag- en antwoordsessie.\nFormat: Online via Zoom – gemakkelijk en flexibel vanaf uw werkplek.\n\nVoor wie is de sessie geschikt?\nNieuwe en bestaande partners die op zoek zijn naar een efficiënte en toekomstbestendige oplossing voor energiebeheer – ideaal voor algemeen directeuren\, technici en verkoop- en marketingspecialisten. \nUw voordelen:\n\nTechnisch overzicht: Begrijp hoe de brinebron warmtepomp met propaan technologie werkt en integreert in bestaande systemen.\nPraktische voorbeelden: Ontdek concrete toepassingsmogelijkheden.\nMarktperspectieven: Benut de voordelen van deze innovatieve oplossing voor uw bedrijf.\n\nNa slechts 30 minuten weet u precies hoe de Brinebron warmtepomp met propaantechnologie uw aanbod kan uitbreiden en uw rendement kan verhogen. \nRegistreer nu en grijp de kansen van de toekomst!
URL:https://www.mtec-akademie.com/nl/event/spotlight-brinebron-warmtepomp-propaan/
LOCATION:Online\, https://zoom.us/j/96460018700?pwd=oLBfUcQSOM83ae52igNxW26tdwXNIK.1 
CATEGORIES:Online Zoom,Spotlight
ATTACH;FMTTYPE=image/jpeg:https://www.mtec-akademie.com/wp-content/uploads/FST5680-scaled.jpg
ORGANIZER;CN="M-TEC Nederland":MAILTO:info@mtec-systems.nl
END:VEVENT
END:VCALENDAR