BEGIN:VCALENDAR
VERSION:2.0
PRODID:-//M-TEC Systems Akademie - ECPv6.15.18//NONSGML v1.0//EN
CALSCALE:GREGORIAN
METHOD:PUBLISH
X-WR-CALNAME:M-TEC Systems Akademie
X-ORIGINAL-URL:https://www.mtec-akademie.com/nl/
X-WR-CALDESC:Evenementen voor M-TEC Systems Akademie
REFRESH-INTERVAL;VALUE=DURATION:PT1H
X-Robots-Tag:noindex
X-PUBLISHED-TTL:PT1H
BEGIN:VTIMEZONE
TZID:Europe/Berlin
BEGIN:DAYLIGHT
TZOFFSETFROM:+0100
TZOFFSETTO:+0200
TZNAME:CEST
DTSTART:20240331T010000
END:DAYLIGHT
BEGIN:STANDARD
TZOFFSETFROM:+0200
TZOFFSETTO:+0100
TZNAME:CET
DTSTART:20241027T010000
END:STANDARD
BEGIN:DAYLIGHT
TZOFFSETFROM:+0100
TZOFFSETTO:+0200
TZNAME:CEST
DTSTART:20250330T010000
END:DAYLIGHT
BEGIN:STANDARD
TZOFFSETFROM:+0200
TZOFFSETTO:+0100
TZNAME:CET
DTSTART:20251026T010000
END:STANDARD
BEGIN:DAYLIGHT
TZOFFSETFROM:+0100
TZOFFSETTO:+0200
TZNAME:CEST
DTSTART:20260329T010000
END:DAYLIGHT
BEGIN:STANDARD
TZOFFSETFROM:+0200
TZOFFSETTO:+0100
TZNAME:CET
DTSTART:20261025T010000
END:STANDARD
END:VTIMEZONE
BEGIN:VEVENT
DTSTART;TZID=Europe/Berlin:20250623T090000
DTEND;TZID=Europe/Berlin:20250623T094500
DTSTAMP:20260421T004122
CREATED:20250417T065628Z
LAST-MODIFIED:20250506T073401Z
UID:2695-1750669200-1750671900@www.mtec-akademie.com
SUMMARY:Spotlight: Energy-Butler
DESCRIPTION:Flexibel\, veilig en duurzaam\nMaak kennis met de Energy Butler – de modulaire alles-in-één opslagoplossing met maximale betrouwbaarheid en volledige noodstroomvoorziening. Met flexibele uitbreidingsopties en intelligente netwerken biedt de Energy Butler een toekomstbestendige oplossing van 7\,7 kWh tot 30\,7 kWh. \nWat u kunt verwachten:\n\nInhoud: Inzicht in functies en voordelen\, inclusief technische hoogtepunten en praktische toepassingsvoorbeelden.\nDuur: 30 minuten compacte informatie plus een interactieve vraag- en antwoordsessie.\nFormat: Online via Zoom – gemakkelijk en flexibel vanaf uw werkplek.\n\nVoor wie is de sessie geschikt?\nNieuwe en bestaande partners die op zoek zijn naar een efficiënte en toekomstbestendige oplossing voor energiebeheer – ideaal voor algemeen directeuren\, technici en verkoop- en marketingspecialisten. \nUw voordelen:\n\nTechnisch overzicht: Begrijp hoe Energy-Butler werkt en integreert met bestaande systemen.\nPraktische voorbeelden: Ontdek concrete toepassingsmogelijkheden.\nMarktperspectieven: Benut de voordelen van deze innovatieve oplossing voor uw bedrijf.\n\nNa slechts 30 minuten weet u precies hoe de Energy Butler uw aanbod kan uitbreiden en uw efficiëntie kan verhogen. \nRegistreer nu en grijp de kansen van de toekomst!
URL:https://www.mtec-akademie.com/nl/event/spotlight-energy-butler/
LOCATION:Online\, https://zoom.us/j/96460018700?pwd=oLBfUcQSOM83ae52igNxW26tdwXNIK.1 
CATEGORIES:Online Zoom,Spotlight
ATTACH;FMTTYPE=image/jpeg:https://www.mtec-akademie.com/wp-content/uploads/FST8843-scaled.jpg
ORGANIZER;CN="M-TEC Nederland":MAILTO:info@mtec-systems.nl
END:VEVENT
END:VCALENDAR